BEGIN:VCALENDAR
VERSION:2.0
PRODID:-//Gordon Junior Cricket Club - ECPv6.15.20//NONSGML v1.0//EN
CALSCALE:GREGORIAN
METHOD:PUBLISH
X-WR-CALNAME:Gordon Junior Cricket Club
X-ORIGINAL-URL:https://gordonjuniorcricket.com.au
X-WR-CALDESC:Events for Gordon Junior Cricket Club
REFRESH-INTERVAL;VALUE=DURATION:PT1H
X-Robots-Tag:noindex
X-PUBLISHED-TTL:PT1H
BEGIN:VTIMEZONE
TZID:Australia/Melbourne
BEGIN:STANDARD
TZOFFSETFROM:+1100
TZOFFSETTO:+1000
TZNAME:AEST
DTSTART:20180331T160000
END:STANDARD
BEGIN:DAYLIGHT
TZOFFSETFROM:+1000
TZOFFSETTO:+1100
TZNAME:AEDT
DTSTART:20181006T160000
END:DAYLIGHT
BEGIN:STANDARD
TZOFFSETFROM:+1100
TZOFFSETTO:+1000
TZNAME:AEST
DTSTART:20190406T160000
END:STANDARD
BEGIN:DAYLIGHT
TZOFFSETFROM:+1000
TZOFFSETTO:+1100
TZNAME:AEDT
DTSTART:20191005T160000
END:DAYLIGHT
BEGIN:STANDARD
TZOFFSETFROM:+1100
TZOFFSETTO:+1000
TZNAME:AEST
DTSTART:20200404T160000
END:STANDARD
BEGIN:DAYLIGHT
TZOFFSETFROM:+1000
TZOFFSETTO:+1100
TZNAME:AEDT
DTSTART:20201003T160000
END:DAYLIGHT
BEGIN:STANDARD
TZOFFSETFROM:+1100
TZOFFSETTO:+1000
TZNAME:AEST
DTSTART:20210403T160000
END:STANDARD
BEGIN:DAYLIGHT
TZOFFSETFROM:+1000
TZOFFSETTO:+1100
TZNAME:AEDT
DTSTART:20211002T160000
END:DAYLIGHT
BEGIN:STANDARD
TZOFFSETFROM:+1100
TZOFFSETTO:+1000
TZNAME:AEST
DTSTART:20220402T160000
END:STANDARD
BEGIN:DAYLIGHT
TZOFFSETFROM:+1000
TZOFFSETTO:+1100
TZNAME:AEDT
DTSTART:20221001T160000
END:DAYLIGHT
BEGIN:STANDARD
TZOFFSETFROM:+1100
TZOFFSETTO:+1000
TZNAME:AEST
DTSTART:20230401T160000
END:STANDARD
BEGIN:DAYLIGHT
TZOFFSETFROM:+1000
TZOFFSETTO:+1100
TZNAME:AEDT
DTSTART:20230930T160000
END:DAYLIGHT
END:VTIMEZONE
BEGIN:VEVENT
DTSTART;TZID=Australia/Melbourne:20220918T090000
DTEND;TZID=Australia/Melbourne:20220918T113000
DTSTAMP:20260424T020804
CREATED:20220815T234639Z
LAST-MODIFIED:20220823T002845Z
UID:1801-1663491600-1663500600@gordonjuniorcricket.com.au
SUMMARY:Back To Cricket Day (2022)
DESCRIPTION:Gordon’s annual – can’t be missed – back to Cricket Day. \nMake sure you can attend for: \n\nCollection of last season trophies\nClub playing shirt collection\nClub Cap (new players only)\nCap or additional gear purchase for those that need\nBuy club used equipment for gold coin donation\nReplenish team kits where applicable\n\n  \nAge groups: \n\nJunior Blasters / Master Blasters\nU9s\nU10s\nU11 & U12\nU13s and higher\n\n 
URL:https://gordonjuniorcricket.com.au/event/back-to-cricket-day-2022/
LOCATION:Beauchamp Park\, Nicholson St\, Chatswood\, New South Wales\, 2067\, Australia
END:VEVENT
BEGIN:VEVENT
DTSTART;TZID=Australia/Melbourne:20211024T090000
DTEND;TZID=Australia/Melbourne:20211024T140000
DTSTAMP:20260424T020804
CREATED:20190703T073322Z
LAST-MODIFIED:20211020T222822Z
UID:1366-1635066000-1635084000@gordonjuniorcricket.com.au
SUMMARY:Back To Cricket Day (CONFIRMED)
DESCRIPTION:Gordon’s annual – can’t be missed – back to Cricket Day. \nDepending on COVID the format may be adjusted closer to the time.  Possible that each age group may need to attend during designated timeslots below for: \n\nCollection of last season trophies\nClub training shirt collection\nClub Cap (new players only)\nPlaying shirt purchase for those that need\nBuy club used equipment for gold coin donation\nReplenish team kits where applicable\n\n  \nAge groups: \n\nJunior Blasters / Master Blasters\nU9s\nU10s\nU11 & U12\nU13s and higher\n\n 
URL:https://gordonjuniorcricket.com.au/event/back-to-cricket-day/
LOCATION:Beauchamp Park\, Nicholson St\, Chatswood\, New South Wales\, 2067\, Australia
END:VEVENT
BEGIN:VEVENT
DTSTART;TZID=Australia/Melbourne:20210314T100000
DTEND;TZID=Australia/Melbourne:20210317T173000
DTSTAMP:20260424T020804
CREATED:20210311T015726Z
LAST-MODIFIED:20210311T015839Z
UID:1695-1615716000-1616002200@gordonjuniorcricket.com.au
SUMMARY:Invitation from Geoff Hickman to attend the Poidevin Gray Final - Sunday 14th March 2021 at Chatswood Oval
DESCRIPTION:Please come support our club U21’s who are playing the FINAL at Chatswood oval this Sunday 14 Mar. \nYour invitation from the Club President Geoff Hickam below: \n\nAs a lot of you would know we have qualified for the final of the Poidevin Gray compeitition to be played this Sunday (14th April) at Chatswood Oval. We had a large group of supporters there last Sunday for the semi-final against St George\, with the Juniors having their very successful presentation day. It would be great to see many of our club members and supporters there this Sunday to cheer the team on\, let’s make sure Parramatta know we are playing at our home ground. \nThe team has performed excellently throughout the season and on behalf of the club I wish them all the best for Sunday. GO THE STAGS!! \nRegards\nGeoff Hickman\nPresident
URL:https://gordonjuniorcricket.com.au/event/invitation-from-geoff-hickman-to-attend-the-poidevin-gray-final-sunday-14th-march-2021-at-chatswood-oval/
LOCATION:chatswood oval\, Albert Ave & Orchard Rd\, Chatswood\, NSW\, 2067\, Australia
END:VEVENT
BEGIN:VEVENT
DTSTART;TZID=Australia/Melbourne:20210307T130000
DTEND;TZID=Australia/Melbourne:20210307T163000
DTSTAMP:20260424T020804
CREATED:20210302T022146Z
LAST-MODIFIED:20210302T022146Z
UID:1690-1615122000-1615134600@gordonjuniorcricket.com.au
SUMMARY:Gordon JCC Presentation day 7 Mar 2021 1pm to 4:30pm
DESCRIPTION:ENTERTAINMENT: \nGordon Under 21’s will playing St. George under 21’s the Sydney 6’s PG final starting at 10am \n  \nPRESENTATIONS: \nUnder 9s and 10s – each player receives a trophy. Under 11s\, 12s\, 13s\, 14 and 17s – special award trophies. \nTeam managers/coaches can collect their team trophies from the trophy tent any time between 1 and 4pm.\nParents please contact your manager to confirm your team presentation time. \nManagers can then present the players their trophies on the grassy area near the tent. \nMaster Blasters and Junior Blasters can collect their individual personalised trophy from the trophy tent anytime between 1 and 4 pm. \n  \nMAJOR AWARDS – Clyde Coltman Award\, Mal Hall Award and Presidents Award . \nThis will be done at 3pm at the Trophy Tent. \n  \nPlease Note: all junior players will receive an Ingenia Holidays show bag . \nSEATING: \nWhen teams are not collecting trophies it requested that all players and supporters sit in the Jack Donnelly Stand . \n 
URL:https://gordonjuniorcricket.com.au/event/gordon-jcc-presentation-day-7-mar-2021-1pm-to-430pm/
LOCATION:chatswood oval\, Albert Ave & Orchard Rd\, Chatswood\, NSW\, 2067\, Australia
END:VEVENT
BEGIN:VEVENT
DTSTART;TZID=Australia/Melbourne:20210307T100000
DTEND;TZID=Australia/Melbourne:20210307T170000
DTSTAMP:20260424T020804
CREATED:20210211T030418Z
LAST-MODIFIED:20210211T030454Z
UID:1686-1615111200-1615136400@gordonjuniorcricket.com.au
SUMMARY:Poidevin-Gray Shield
DESCRIPTION:The Poidevin-Gray Shield (NSW U/21 Competition) Conference Finals will be contested on Sunday 7th March. \n  \nGORDON will play St George  at CHATSWOOD OVAL. The game is scheduled to start at 10.00am \n  \nCome by and support your club as they contest the Sixers Conference Final. \n  \nSydney Sixers Conference \n\n\n\n\n\nGordon v St George at Chatswood Oval (10:00AM)\n\n\n\n\n\n  \nSydney Thunder Conference \n\n\n\n\n\nCampbelltown-Camden v Parramatta at Raby Oval (10:00AM):
URL:https://gordonjuniorcricket.com.au/event/poidevin-gray-shield/
LOCATION:chatswood oval\, Albert Ave & Orchard Rd\, Chatswood\, NSW\, 2067\, Australia
ATTACH;FMTTYPE=image/png:https://gordonjuniorcricket.com.au/wp-content/uploads/2020/12/Tym-Crawford.png
END:VEVENT
BEGIN:VEVENT
DTSTART;TZID=Australia/Melbourne:20201220T110000
DTEND;TZID=Australia/Melbourne:20201220T150000
DTSTAMP:20260424T020804
CREATED:20201211T024104Z
LAST-MODIFIED:20201215T070740Z
UID:1673-1608462000-1608476400@gordonjuniorcricket.com.au
SUMMARY:Come Support! Gordon v UNSW: Kingsgrove Sports T20 Cup
DESCRIPTION:The Kingsgrove Sports T20 Cup Conference Finals will be contested on Sunday 20th December starting @ 11:00 AM. \n  \nCome by and support your club as they contest the Sixers Conference Final. \nSydney Sixers Conference \n\n\n\n\n\nGordonv (2) UNSW at Chatswood Oval(11:00 AM)\n\n\n\n\n\n  \n  \nSydney Thunder Conference \n\n\n\n\n\nBankstown v (2) Parramatta at Bankstown Oval:
URL:https://gordonjuniorcricket.com.au/event/1673/
LOCATION:chatswood oval\, Albert Ave & Orchard Rd\, Chatswood\, NSW\, 2067\, Australia
ATTACH;FMTTYPE=image/png:https://gordonjuniorcricket.com.au/wp-content/uploads/2020/12/Tym-Crawford.png
END:VEVENT
BEGIN:VEVENT
DTSTART;TZID=Australia/Melbourne:20201206T143000
DTEND;TZID=Australia/Melbourne:20201206T173000
DTSTAMP:20260424T020804
CREATED:20201130T210731Z
LAST-MODIFIED:20201130T210822Z
UID:1614-1607265000-1607275800@gordonjuniorcricket.com.au
SUMMARY:Come Support! Gordon v Sutherland: Kingsgrove Sports T20 Cup
DESCRIPTION:The Kingsgrove Sports T20 Cup Semi Finals will be contested on Sunday 6th December. \n  \n  \nCome by and support your club as they contest the Sixers Conference Semi Final. \nSydney Sixers Conference \n\n\n\nSydney v (4) UNSW at Drummoyne Oval;\nGordon v (3) Sutherland at Chatswood Oval;\n\n\n\n  \nSydney Thunder Conference \n\n\n\nBankstown v (4) Fairfield-Liverpool at Bankstown Oval;\nParramatta v (3) Hawkesbury at Old Kings Oval.
URL:https://gordonjuniorcricket.com.au/event/kingsgrove-sports-t20-cup-gordon-v-sutherland/
LOCATION:chatswood oval\, Albert Ave & Orchard Rd\, Chatswood\, NSW\, 2067\, Australia
ATTACH;FMTTYPE=image/png:https://gordonjuniorcricket.com.au/wp-content/uploads/2020/12/Tym-Crawford.png
END:VEVENT
BEGIN:VEVENT
DTSTART;TZID=Australia/Melbourne:20200329T160000
DTEND;TZID=Australia/Melbourne:20200329T180000
DTSTAMP:20260424T020804
CREATED:20200317T040610Z
LAST-MODIFIED:20200317T040610Z
UID:1511-1585497600-1585504800@gordonjuniorcricket.com.au
SUMMARY:Presentation day 2019/2020
DESCRIPTION:All club members are invited and encouraged to join in a short two-hour event including free sausage sizzle for Gordon juniors and siblings. \nEvent details as per the below with details for time frames for specific ager groups: \n4-00pm – Junior Blasters\, Master Blasters\, Under 9’s and Under 10’s managers/coaches to collect team trophies from the pavilion while the young players are playing games. \nTeam managers / coaches will assemble their teams on the oval and present trophies to team members. All team members from these teams will receive a trophy . \n  \n4.30pm – Presentation of Major Awards and President’s “thank you” for the season address. \nTo   include :- \nAGE GROUP COMPETITION CHAMPIONSHIP AND PLATE WINNERS. \nCLYDE COLTMAN AWARD  – for the best junior performances during the season. \nMAL HALL MEMORIAL AWARD –  for the junior cricketer of the year. \nPRESIDENT’S AWARD –  for an outstanding voluntary contribution during the season. \nRECOGNITION OF GORDON JUNIOR NSJCA REP AND A.W. GREEN SHIELD PLAYERS. \nACKNOWLEDGEMENT OF CRICKET NSW \, NSJCA and GORDON SENIOR CRICKET CLUB for their support of the 2019/20 season. \n  \n4.50pm – 11s\, 12s\, 13s\, 14\, 15s and 17s awards – Team coaches / managers to collect trophies from pavilion and present to their team nominations previously advised. \n  \n5.00pm – BBQ and Beverages.  All junior players (siblings as well) will receive the free customary sausage sanga and drink. Bar will be open for adults. \n  \n 
URL:https://gordonjuniorcricket.com.au/event/presentation-day-2019-2020/
LOCATION:Beauchamp Park\, Nicholson St\, Chatswood\, New South Wales\, 2067\, Australia
END:VEVENT
BEGIN:VEVENT
DTSTART;TZID=Australia/Melbourne:20191128T190000
DTEND;TZID=Australia/Melbourne:20191128T220000
DTSTAMP:20260424T020804
CREATED:20190920T033623Z
LAST-MODIFIED:20190920T033623Z
UID:1504-1574967600-1574978400@gordonjuniorcricket.com.au
SUMMARY:Umpiring Course (Last Chance)
DESCRIPTION:This is the last of the umpiring courses NSJCA are holding for the upcoming season. All NSJCA teams are required to have two NSJCA qualified umpires (teams receive 6 points when they demonstrate compliance with this requirement). \nWe encourage all parents to attend\, not only to comply with the above but also to become more familiar with the game and increase your enjoyment and participation. \n  \nFor more information or to register click HERE
URL:https://gordonjuniorcricket.com.au/event/umpiring-course-last-chance/
LOCATION:New South Wales
END:VEVENT
BEGIN:VEVENT
DTSTART;TZID=Australia/Melbourne:20191012T080000
DTEND;TZID=Australia/Melbourne:20191012T170000
DTSTAMP:20260424T020804
CREATED:20190817T020216Z
LAST-MODIFIED:20190817T020216Z
UID:1480-1570867200-1570899600@gordonjuniorcricket.com.au
SUMMARY:Start of Cricket Season for Master Blasters\, U9s & Girls League
DESCRIPTION:And we’re off!
URL:https://gordonjuniorcricket.com.au/event/start-of-cricket-season-for-master-blasters-u9s-girls-league/
LOCATION:New South Wales
END:VEVENT
BEGIN:VEVENT
DTSTART;VALUE=DATE:20190928
DTEND;VALUE=DATE:20190929
DTSTAMP:20260424T020804
CREATED:20190703T073427Z
LAST-MODIFIED:20190817T020101Z
UID:1368-1569628800-1569715199@gordonjuniorcricket.com.au
SUMMARY:Start of Junior Cricket Summer Season for Juniors U10 to U17
DESCRIPTION:And we’re Off
URL:https://gordonjuniorcricket.com.au/event/start-of-junior-cricket-summer-season/
LOCATION:New South Wales
END:VEVENT
BEGIN:VEVENT
DTSTART;TZID=Australia/Melbourne:20190926T190000
DTEND;TZID=Australia/Melbourne:20190926T220000
DTSTAMP:20260424T020804
CREATED:20190920T033400Z
LAST-MODIFIED:20190920T033441Z
UID:1501-1569524400-1569535200@gordonjuniorcricket.com.au
SUMMARY:Umpiring Course
DESCRIPTION:This is the first of two umpiring courses NSJCA are holding for the upcoming season. All NSJCA teams are required to have two NSJCA qualified umpires (teams receive 6 points when they demonstrate compliance with this requirement). \nWe encourage all parents to attend\, not only to comply with the above but also to become more familiar with the game and increase your enjoyment and participation. \n  \nFor more information or to register click HERE
URL:https://gordonjuniorcricket.com.au/event/umpiring-course-1/
LOCATION:St Alban’s Church Hall\, Tyron Rd & Lindfield Avenue\, Lindfield\, NSW\, 2070\, Australia
END:VEVENT
BEGIN:VEVENT
DTSTART;TZID=Australia/Melbourne:20190901T150000
DTEND;TZID=Australia/Melbourne:20190901T170000
DTSTAMP:20260424T020804
CREATED:20190809T113356Z
LAST-MODIFIED:20190829T062945Z
UID:1413-1567350000-1567357200@gordonjuniorcricket.com.au
SUMMARY:U12 & U13 Division 1 long over format Trials Week 2 of 2
DESCRIPTION:To make access to the 1st Division long over format fair for all cricketers wanting to participate\, Gordon will be running trials across two weekends to assess the clubs ability to field one or more teams in each of these divisions for age groups U12 to U13.  Please try to make both sessions\, but if there is a conflict please make at least 1. \nTrials will be run as follows: \n25 Aug: 2:00pm till 5:00 PM  for (U12 @ Willoughby Park) -Week 1 of 2 \n1 Sept: 2:00pm till 5:00 PM  for (U12 @ Willoughby Park) -Week 2 of 2
URL:https://gordonjuniorcricket.com.au/event/u12-division-1-long-over-format-trials-week-2-of-2/
LOCATION:chatswood high school\, 24 Centennial Avenue\, Chatswood\, New south wales\, 2067\, Australia
END:VEVENT
BEGIN:VEVENT
DTSTART;TZID=Australia/Melbourne:20190825T140000
DTEND;TZID=Australia/Melbourne:20190825T170000
DTSTAMP:20260424T020804
CREATED:20190809T064509Z
LAST-MODIFIED:20190817T014513Z
UID:1394-1566741600-1566752400@gordonjuniorcricket.com.au
SUMMARY:U12 Division 1 long over format Trials Week 1 of 2
DESCRIPTION:To make access to the 1st Division long over format fair for all cricketers wanting to participate\, Gordon will be running trials across two weekends to assess the clubs ability to field one or more teams in each of these divisions for age groups U12 to U14.  Please try to make both sessions\, but if there is a conflict please make at least 1. \nTrials will be run as follows: \n25 Aug: 2:00pm till 5:00 PM  for (U12 @ Willoughby Park) -Week 1 of 2 \n1 Sept: 2:00pm till 5:00 PM  for (U12 @ Willoughby Park) -Week 2 of 2 \n  \n 
URL:https://gordonjuniorcricket.com.au/event/division-1-long-over-format-u12-trials/
LOCATION:Willoughby Park\, McClelland St\, Willoughby East\, new south wales\, 2068\, Australia
END:VEVENT
BEGIN:VEVENT
DTSTART;TZID=Australia/Melbourne:20190824T140000
DTEND;TZID=Australia/Melbourne:20190824T170000
DTSTAMP:20260424T020804
CREATED:20190809T064911Z
LAST-MODIFIED:20190817T015628Z
UID:1397-1566655200-1566666000@gordonjuniorcricket.com.au
SUMMARY:U13 Division 1 long over format Trials Week 1 of 2
DESCRIPTION:To make access to the 1st Division long over format fair for all cricketers wanting to participate\, Gordon will be running trials across two weekends to assess the clubs ability to field one or more teams in each of these divisions for age groups U12 to U14.  Please try to make both sessions\, but if there is a conflict please make at least 1. \nTrials will be run as follows: \n24 Aug: 2:00pm till 5:00 PM  for (U13 @ Willoughby Park) -Week 1 of 2 \n31 Aug : 2:00pm till 5:00 PM  for (U13 @ Willoughby Park) -Week 2 of 2 \nEnsure you complete the form to register here
URL:https://gordonjuniorcricket.com.au/event/division-1-long-over-format-u13-trials/
LOCATION:Willoughby Park\, McClelland St\, Willoughby East\, new south wales\, 2068\, Australia
END:VEVENT
BEGIN:VEVENT
DTSTART;TZID=Australia/Melbourne:20190823T150000
DTEND;TZID=Australia/Melbourne:20190823T170000
DTSTAMP:20260424T020804
CREATED:20190809T065051Z
LAST-MODIFIED:20190817T015453Z
UID:1401-1566572400-1566579600@gordonjuniorcricket.com.au
SUMMARY:U14 Division 1 long over format Trials Week 1 of 2
DESCRIPTION:To make access to the 1st Division long over format fair for all cricketers wanting to participate\, Gordon will be running trials across two weekends to assess the clubs ability to field one or more teams in each of these divisions for age groups U12 to U14.  Please try to make both sessions\, but if there is a conflict please make at least 1. \nTrials will be run as follows: \n23 Aug: 4:00pm till 5:00 PM  for (U14 @ Naremburn Park) -Week 1 of 2 \n30 Aug: 4:00pm till 5:00 PM  for (U14 @ Chatswood High) -Week 2 of 2 \nEnsure you complete the form to register here
URL:https://gordonjuniorcricket.com.au/event/division-1-long-over-format-u14-trials/
LOCATION:Naremburn Park\, Station St\, Naremburn\, New South Wales\, 2065\, Australia
END:VEVENT
END:VCALENDAR