BEGIN:VCALENDAR
VERSION:2.0
PRODID:-//Gordon Junior Cricket Club - ECPv6.15.20//NONSGML v1.0//EN
CALSCALE:GREGORIAN
METHOD:PUBLISH
X-WR-CALNAME:Gordon Junior Cricket Club
X-ORIGINAL-URL:https://gordonjuniorcricket.com.au
X-WR-CALDESC:Events for Gordon Junior Cricket Club
REFRESH-INTERVAL;VALUE=DURATION:PT1H
X-Robots-Tag:noindex
X-PUBLISHED-TTL:PT1H
BEGIN:VTIMEZONE
TZID:Australia/Melbourne
BEGIN:STANDARD
TZOFFSETFROM:+1100
TZOFFSETTO:+1000
TZNAME:AEST
DTSTART:20180331T160000
END:STANDARD
BEGIN:DAYLIGHT
TZOFFSETFROM:+1000
TZOFFSETTO:+1100
TZNAME:AEDT
DTSTART:20181006T160000
END:DAYLIGHT
BEGIN:STANDARD
TZOFFSETFROM:+1100
TZOFFSETTO:+1000
TZNAME:AEST
DTSTART:20190406T160000
END:STANDARD
BEGIN:DAYLIGHT
TZOFFSETFROM:+1000
TZOFFSETTO:+1100
TZNAME:AEDT
DTSTART:20191005T160000
END:DAYLIGHT
BEGIN:STANDARD
TZOFFSETFROM:+1100
TZOFFSETTO:+1000
TZNAME:AEST
DTSTART:20200404T160000
END:STANDARD
BEGIN:DAYLIGHT
TZOFFSETFROM:+1000
TZOFFSETTO:+1100
TZNAME:AEDT
DTSTART:20201003T160000
END:DAYLIGHT
END:VTIMEZONE
BEGIN:VEVENT
DTSTART;VALUE=DATE:20190928
DTEND;VALUE=DATE:20190929
DTSTAMP:20260424T033439
CREATED:20190703T073427Z
LAST-MODIFIED:20190817T020101Z
UID:1368-1569628800-1569715199@gordonjuniorcricket.com.au
SUMMARY:Start of Junior Cricket Summer Season for Juniors U10 to U17
DESCRIPTION:And we’re Off
URL:https://gordonjuniorcricket.com.au/event/start-of-junior-cricket-summer-season/
LOCATION:New south wales
END:VEVENT
BEGIN:VEVENT
DTSTART;TZID=Australia/Melbourne:20190926T190000
DTEND;TZID=Australia/Melbourne:20190926T220000
DTSTAMP:20260424T033439
CREATED:20190920T033400Z
LAST-MODIFIED:20190920T033441Z
UID:1501-1569524400-1569535200@gordonjuniorcricket.com.au
SUMMARY:Umpiring Course
DESCRIPTION:This is the first of two umpiring courses NSJCA are holding for the upcoming season. All NSJCA teams are required to have two NSJCA qualified umpires (teams receive 6 points when they demonstrate compliance with this requirement). \nWe encourage all parents to attend\, not only to comply with the above but also to become more familiar with the game and increase your enjoyment and participation. \n  \nFor more information or to register click HERE
URL:https://gordonjuniorcricket.com.au/event/umpiring-course-1/
LOCATION:St Alban’s Church Hall\, Tyron Rd & Lindfield Avenue\, Lindfield\, NSW\, 2070\, Australia
END:VEVENT
BEGIN:VEVENT
DTSTART;TZID=Australia/Melbourne:20190901T150000
DTEND;TZID=Australia/Melbourne:20190901T170000
DTSTAMP:20260424T033439
CREATED:20190809T113356Z
LAST-MODIFIED:20190829T062945Z
UID:1413-1567350000-1567357200@gordonjuniorcricket.com.au
SUMMARY:U12 & U13 Division 1 long over format Trials Week 2 of 2
DESCRIPTION:To make access to the 1st Division long over format fair for all cricketers wanting to participate\, Gordon will be running trials across two weekends to assess the clubs ability to field one or more teams in each of these divisions for age groups U12 to U13.  Please try to make both sessions\, but if there is a conflict please make at least 1. \nTrials will be run as follows: \n25 Aug: 2:00pm till 5:00 PM  for (U12 @ Willoughby Park) -Week 1 of 2 \n1 Sept: 2:00pm till 5:00 PM  for (U12 @ Willoughby Park) -Week 2 of 2
URL:https://gordonjuniorcricket.com.au/event/u12-division-1-long-over-format-trials-week-2-of-2/
LOCATION:chatswood high school\, 24 Centennial Avenue\, Chatswood\, New south wales\, 2067\, Australia
END:VEVENT
BEGIN:VEVENT
DTSTART;TZID=Australia/Melbourne:20190825T140000
DTEND;TZID=Australia/Melbourne:20190825T170000
DTSTAMP:20260424T033439
CREATED:20190809T064509Z
LAST-MODIFIED:20190817T014513Z
UID:1394-1566741600-1566752400@gordonjuniorcricket.com.au
SUMMARY:U12 Division 1 long over format Trials Week 1 of 2
DESCRIPTION:To make access to the 1st Division long over format fair for all cricketers wanting to participate\, Gordon will be running trials across two weekends to assess the clubs ability to field one or more teams in each of these divisions for age groups U12 to U14.  Please try to make both sessions\, but if there is a conflict please make at least 1. \nTrials will be run as follows: \n25 Aug: 2:00pm till 5:00 PM  for (U12 @ Willoughby Park) -Week 1 of 2 \n1 Sept: 2:00pm till 5:00 PM  for (U12 @ Willoughby Park) -Week 2 of 2 \n  \n 
URL:https://gordonjuniorcricket.com.au/event/division-1-long-over-format-u12-trials/
LOCATION:Willoughby Park\, McClelland St\, Willoughby East\, new south wales\, 2068\, Australia
END:VEVENT
BEGIN:VEVENT
DTSTART;TZID=Australia/Melbourne:20190824T140000
DTEND;TZID=Australia/Melbourne:20190824T170000
DTSTAMP:20260424T033439
CREATED:20190809T064911Z
LAST-MODIFIED:20190817T015628Z
UID:1397-1566655200-1566666000@gordonjuniorcricket.com.au
SUMMARY:U13 Division 1 long over format Trials Week 1 of 2
DESCRIPTION:To make access to the 1st Division long over format fair for all cricketers wanting to participate\, Gordon will be running trials across two weekends to assess the clubs ability to field one or more teams in each of these divisions for age groups U12 to U14.  Please try to make both sessions\, but if there is a conflict please make at least 1. \nTrials will be run as follows: \n24 Aug: 2:00pm till 5:00 PM  for (U13 @ Willoughby Park) -Week 1 of 2 \n31 Aug : 2:00pm till 5:00 PM  for (U13 @ Willoughby Park) -Week 2 of 2 \nEnsure you complete the form to register here
URL:https://gordonjuniorcricket.com.au/event/division-1-long-over-format-u13-trials/
LOCATION:Willoughby Park\, McClelland St\, Willoughby East\, new south wales\, 2068\, Australia
END:VEVENT
BEGIN:VEVENT
DTSTART;TZID=Australia/Melbourne:20190823T150000
DTEND;TZID=Australia/Melbourne:20190823T170000
DTSTAMP:20260424T033439
CREATED:20190809T065051Z
LAST-MODIFIED:20190817T015453Z
UID:1401-1566572400-1566579600@gordonjuniorcricket.com.au
SUMMARY:U14 Division 1 long over format Trials Week 1 of 2
DESCRIPTION:To make access to the 1st Division long over format fair for all cricketers wanting to participate\, Gordon will be running trials across two weekends to assess the clubs ability to field one or more teams in each of these divisions for age groups U12 to U14.  Please try to make both sessions\, but if there is a conflict please make at least 1. \nTrials will be run as follows: \n23 Aug: 4:00pm till 5:00 PM  for (U14 @ Naremburn Park) -Week 1 of 2 \n30 Aug: 4:00pm till 5:00 PM  for (U14 @ Chatswood High) -Week 2 of 2 \nEnsure you complete the form to register here
URL:https://gordonjuniorcricket.com.au/event/division-1-long-over-format-u14-trials/
LOCATION:Naremburn Park\, Station St\, Naremburn\, New South Wales\, 2065\, Australia
END:VEVENT
END:VCALENDAR